BEGIN:VCALENDAR
VERSION:2.0
PRODID:-//ExpressionEngine Easy iCalendar plugin//NONSGML v2.0.1//EN
X-WR-TIMEZONE:America/Chicago
X-WR-CALNAME:Upcoming Auctions
BEGIN:VEVENT
UID:130014
DTSTAMP:20241031T100700
DTSTART:20241031T100700
DTEND:20241104T100700
SUMMARY:Online Only Firearm Auction 10/31-11/4/24
LOCATION:4000 Olivet Church Road\, Paducah\, KY 42001\, US
DESCRIPTION:Firearms\, Knives\, Bows\, Arrows\, Crossbow\, Ammo\, & More!
URL:https://www.rareauctions.com/auctions/detail/bw130014
SEQUENCE:1
END:VEVENT
END:VCALENDAR