BEGIN:VCALENDAR
VERSION:2.0
PRODID:-//ExpressionEngine Easy iCalendar plugin//NONSGML v2.0.1//EN
X-WR-TIMEZONE:America/Chicago
X-WR-CALNAME:Upcoming Auctions
BEGIN:VEVENT
UID:130064
DTSTAMP:20241107T100700
DTSTART:20241107T100700
DTEND:20241112T100700
SUMMARY:Online Only Real Estate & Personal Property Auction
LOCATION:1244 N. 12th Street\, Paducah\, KY 42001\, US
DESCRIPTION:3 or 4 Bedroom\, 1 1/2 Story Home • 1992 Buick LeSabre • 
 House-Full of Furniture\, Antiques\, & Collectibles
URL:https://www.rareauctions.com/auctions/detail/bw130064
SEQUENCE:1
END:VEVENT
END:VCALENDAR