BEGIN:VCALENDAR
VERSION:2.0
PRODID:-//ExpressionEngine Easy iCalendar plugin//NONSGML v2.0.1//EN
X-WR-TIMEZONE:America/Chicago
X-WR-CALNAME:Upcoming Auctions
BEGIN:VEVENT
UID:130245
DTSTAMP:20241121T100700
DTSTART:20241121T100700
DTEND:20241121T110700
SUMMARY:Absolute Estate Auction • 11/21/2024
LOCATION:2111 West Park Drive\, Paducah\, KY 42001\, US
DESCRIPTION:2 Bedroom\, 2 Bath Home with Garage in West Park Village
URL:https://www.rareauctions.com/auctions/detail/bw130245
SEQUENCE:1
END:VEVENT
END:VCALENDAR