BEGIN:VCALENDAR
VERSION:2.0
PRODID:-//ExpressionEngine Easy iCalendar plugin//NONSGML v2.0.1//EN
X-WR-TIMEZONE:America/Chicago
X-WR-CALNAME:Upcoming Auctions
BEGIN:VEVENT
UID:131778
DTSTAMP:20241204T120000
DTSTART:20241204T120000
DTEND:20241204T123000
SUMMARY:AUCTIONTIME.COM - VEHICLE AUCTIONS
LOCATION:4000 Olivet Church Road\, Paducah\, KY 42001\, US
DESCRIPTION:Visit AuctionTime.com to view and bid on: 2007 Duramax 4500\;
  2005 GMC Duramax 5500\; 1976 Chevy C65 Dump Truck\;
URL:https://www.rareauctions.com/auctions/detail/bw131778
SEQUENCE:1
END:VEVENT
END:VCALENDAR