BEGIN:VCALENDAR
VERSION:2.0
PRODID:-//ExpressionEngine Easy iCalendar plugin//NONSGML v2.0.1//EN
X-WR-TIMEZONE:America/Chicago
X-WR-CALNAME:Upcoming Auctions
BEGIN:VEVENT
UID:132686
DTSTAMP:20250116T100700
DTSTART:20250116T100700
DTEND:20250116T110700
SUMMARY:Absolute Estate Auction • 01/16/2025
LOCATION:100 Clear Creek Drive\, Paducah\, KY 42001\, US
DESCRIPTION:In the Concord area and close to it all - yet in a nice\, qui
 et neighborhood!
URL:https://www.rareauctions.com/auctions/detail/bw132686
SEQUENCE:1
END:VEVENT
END:VCALENDAR