BEGIN:VCALENDAR
VERSION:2.0
PRODID:-//ExpressionEngine Easy iCalendar plugin//NONSGML v2.0.1//EN
X-WR-TIMEZONE:America/Chicago
X-WR-CALNAME:Upcoming Auctions
BEGIN:VEVENT
UID:132769
DTSTAMP:20250123T100700
DTSTART:20250123T100700
DTEND:20250123T110700
SUMMARY:Absolute Estate Auction • 01/23/2025
LOCATION:4725 Epperson Road\, Paducah\, KY 42003\, US
DESCRIPTION:Open House: Monday\, January 20th 3:07-5:07 PM • 4 Bedrooms
 \, 2 Baths • ±24x36 Ft. Garage • ±1.8 Acres
URL:https://www.rareauctions.com/auctions/detail/bw132769
SEQUENCE:1
END:VEVENT
END:VCALENDAR