BEGIN:VCALENDAR
VERSION:2.0
PRODID:-//ExpressionEngine Easy iCalendar plugin//NONSGML v2.0.1//EN
X-WR-TIMEZONE:America/Chicago
X-WR-CALNAME:Upcoming Auctions
BEGIN:VEVENT
UID:134269
DTSTAMP:20250206T100700
DTSTART:20250206T100700
DTEND:20250210T100700
SUMMARY:Online Only Auction 02/06/2025-02/10/2025
LOCATION:4000 Olivet Church Road\, Paducah\, KY 42001\, US
DESCRIPTION:More details coming soon!  
URL:https://www.rareauctions.com/auctions/detail/bw134269
SEQUENCE:1
END:VEVENT
END:VCALENDAR