BEGIN:VCALENDAR
VERSION:2.0
PRODID:-//ExpressionEngine Easy iCalendar plugin//NONSGML v2.0.1//EN
X-WR-TIMEZONE:America/Chicago
X-WR-CALNAME:Upcoming Auctions
BEGIN:VEVENT
UID:135845
DTSTAMP:20250320T100700
DTSTART:20250320T100700
DTEND:20250320T110700
SUMMARY:Absolute Estate Auction • 03/20/25
LOCATION:5420 Harris Road\, Paducah\, KY 42001\, US
DESCRIPTION:±3 Acres • 3 Tracts
URL:https://www.rareauctions.com/auctions/detail/bw135845
SEQUENCE:1
END:VEVENT
END:VCALENDAR