BEGIN:VCALENDAR
VERSION:2.0
PRODID:-//ExpressionEngine Easy iCalendar plugin//NONSGML v2.0.1//EN
X-WR-TIMEZONE:America/Chicago
X-WR-CALNAME:Upcoming Auctions
BEGIN:VEVENT
UID:136743
DTSTAMP:20250403T100700
DTSTART:20250403T100700
DTEND:20250403T110700
SUMMARY:Living Estate Auction-2108 Spindletop Drive\, Murray\, KY
LOCATION:2108 Spindletop Drive\, Murray\, KY 42071\, US
DESCRIPTION:±4223 Sq. Ft. Under Roof • 4 Bedrooms\, 3 ½ Baths • 2 C
 ar Garage
URL:https://www.rareauctions.com/auctions/detail/bw136743
SEQUENCE:1
END:VEVENT
END:VCALENDAR