BEGIN:VCALENDAR
VERSION:2.0
PRODID:-//ExpressionEngine Easy iCalendar plugin//NONSGML v2.0.1//EN
X-WR-TIMEZONE:America/Chicago
X-WR-CALNAME:Upcoming Auctions
BEGIN:VEVENT
UID:137221
DTSTAMP:20250508T180700
DTSTART:20250508T180700
DTEND:20250508T190700
SUMMARY:Absolute Auction-669 Forest Road\, Benton\, KY
LOCATION:669 Forest Circle\, Benton\, KY 42025\, US
DESCRIPTION:Kentucky Lake Subdivision • ±1237 Sq. Ft. • 2 or 3 Bedr
 ooms\, 1 1/2 Baths
URL:https://www.rareauctions.com/auctions/detail/bw137221
SEQUENCE:1
END:VEVENT
END:VCALENDAR