BEGIN:VCALENDAR
VERSION:2.0
PRODID:-//ExpressionEngine Easy iCalendar plugin//NONSGML v2.0.1//EN
X-WR-TIMEZONE:America/Chicago
X-WR-CALNAME:Upcoming Auctions
BEGIN:VEVENT
UID:137880
DTSTAMP:20250418T100700
DTSTART:20250418T100700
DTEND:20250424T100700
SUMMARY:Online Only Auction • 4/18/25-4/24/25
LOCATION:4000 Olivet Church Road\, Paducah\, KY 42001\, US
DESCRIPTION:Beautiful Art Quilts\, Modern Furniture\, Antiques\, Jewelry\, C
 ollectibles\, & More!
URL:https://www.rareauctions.com/auctions/detail/bw137880
SEQUENCE:1
END:VEVENT
END:VCALENDAR