BEGIN:VCALENDAR
VERSION:2.0
PRODID:-//ExpressionEngine Easy iCalendar plugin//NONSGML v2.0.1//EN
X-WR-TIMEZONE:America/Chicago
X-WR-CALNAME:Upcoming Auctions
BEGIN:VEVENT
UID:137887
DTSTAMP:20250429T100700
DTSTART:20250429T100700
DTEND:20250429T110700
SUMMARY:Living Estate Auction â€¢ 4/29/25
LOCATION:211 Larkspur Lane\, Paducah\, KY 42003\, US
DESCRIPTION:LIVING ESTATE AUCTION Â  Tuesday\, April 29th â€¢ 10:07 AM Â 
  211 Larkspur Ln. â€¢ Paducah\, KY Â  Â±3\,284 Sq. Ft. Under R
 oof 3 Bedrooms\, 2 Baths Â  This beautiful custom built one l
 evel home was loved by the Ryans. Built in 2007 for a lifeti
 me of enjoyment by one of Western Kentuckyâ€™s finest builde
 rs. From the concrete drive and sidewalks on to the Â±35x5 F
 t. plus 4 columned welcome home front porch through pretty e
 ntry door system into the Â±11.25x8 Ft. hardwood foyer with 
 tray ceiling\, pretty chandelier\, guest closet\, into the Â±12
 .75x10 Ft. office or the Â±21.5x17 Ft. family room with tray
  ceiling\, crown molding\, recessed lighting and ceiling fan. 
 The Â±21.5x15.5 eat in kitchen has a great horse farm view\, 
 excellent lighting\, abundance of beautiful cabinetry\, island
  with granite top\, walk in window lit pantry with matching c
 abinetry\, second pantry/closet\, patio door to the Â±16x14 Ft
 . concrete patio with large chain link fenced area and lands
 caped backyard. Â±13.25x12.5 Ft. dining room with front yard
  views crown molding\, and pretty chandelier. Also off kitche
 n\, Â±10x6.7 Ft.\, with offset\, utility room with pretty cabin
 etry as throughout\, decorative sink\, steps to the Â±25x24 Ft
 . 2 car garage with work bench\, peg board\, and its own Â±12x
 7 Ft. walk-in utility room/closet with shelving. The Â±20.5x
 15.25 Ft. master bedroom has patio doors to the concrete pat
 io\, Â±10x8.5 Ft. master bath with pretty fixtures and cabine
 try\, low step double shower with seating\, ceramic tile floor
 \, decorative recessed lighting\, Â±10x8.5 Ft. walk-in closet.
  The second bedroom is Â±13x13 Ft. with ceiling fan and has 
 another Â±10x8.5 Ft. walk-in closet. The third bedroom is Â±
 14x13.75 Ft. The second bath is Â±10.5x7.75 Ft. with offset.
  Â  Other amenities include: enough cannot be said about the
  quality construction and workmanship of this fine built hom
 e\, recent roof\, recent natural gas HVAC\, 200 amp breaker sys
 tem\, outstanding neighborhood\, Â±.68 Acre landscaped homesit
 e close to I-24\, Kentucky Lake\, Draffenville\, and Paducah. Â
   Terms of Real Estate Auction: 15% deposit day of auction\; 
 balance within 45 days. A 10% Buyerâ€™s Premium will be adde
 d to the final bid and included in the total contract price.
  Â  Also selling (online only) all of the contents wall to w
 all.
URL:https://www.rareauctions.com/auctions/detail/bw137887
SEQUENCE:1
END:VEVENT
END:VCALENDAR