BEGIN:VCALENDAR
VERSION:2.0
PRODID:-//ExpressionEngine Easy iCalendar plugin//NONSGML v2.0.1//EN
X-WR-TIMEZONE:America/Chicago
X-WR-CALNAME:Upcoming Auctions
BEGIN:VEVENT
UID:138803
DTSTAMP:20250521T100700
DTSTART:20250521T100700
DTEND:20250529T170700
SUMMARY:Classic Car Auction
LOCATION:4000 Olivet Church Road\, Paducah\, KY 42001\, US
DESCRIPTION:100% Online Collector Vehicle Auction
URL:https://www.rareauctions.com/auctions/detail/bw138803
SEQUENCE:1
END:VEVENT
END:VCALENDAR