BEGIN:VCALENDAR
VERSION:2.0
PRODID:-//ExpressionEngine Easy iCalendar plugin//NONSGML v2.0.1//EN
X-WR-TIMEZONE:America/Chicago
X-WR-CALNAME:Upcoming Auctions
BEGIN:VEVENT
UID:139521
DTSTAMP:20250429T100700
DTSTART:20250429T100700
DTEND:20250505T100700
SUMMARY:Online Only Auction April 29th\, 2025-May 5th\, 2025
LOCATION:211 Larkspur Lane\, Paducah\, KY 42003\, US
DESCRIPTION:   ±200 Lots - 20HP Kubota Mower\, Tools\, Furniture\, Appli
 ances
URL:https://www.rareauctions.com/auctions/detail/bw139521
SEQUENCE:1
END:VEVENT
END:VCALENDAR