BEGIN:VCALENDAR
VERSION:2.0
PRODID:-//ExpressionEngine Easy iCalendar plugin//NONSGML v2.0.1//EN
X-WR-TIMEZONE:America/Chicago
X-WR-CALNAME:Upcoming Auctions
BEGIN:VEVENT
UID:141497
DTSTAMP:20250619T100700
DTSTART:20250619T100700
DTEND:20250619T110700
SUMMARY:Absolute Estate Auction • 1042 S. Main St. • Calvert Cit
 y\, KY
LOCATION:1042 S. Main Street\, Calvert City\, KY 42029\, US
DESCRIPTION:±2232 Sq. Ft. • 3 Bedroom\, 2 Bath • 2 Lots • ±116
 2 Sq. Ft. Garage/Studio w/Separate Electric  
URL:https://www.rareauctions.com/auctions/detail/bw141497
SEQUENCE:1
END:VEVENT
END:VCALENDAR