BEGIN:VCALENDAR
VERSION:2.0
PRODID:-//ExpressionEngine Easy iCalendar plugin//NONSGML v2.0.1//EN
X-WR-TIMEZONE:America/Chicago
X-WR-CALNAME:Upcoming Auctions
BEGIN:VEVENT
UID:141591
DTSTAMP:20250605T100700
DTSTART:20250605T100700
DTEND:20250605T110700
SUMMARY:ON SITE Absolute Estate Auction
LOCATION:233 Darnell Road\, Benton\, KY 42025\, US
DESCRIPTION:On Site! Antiques • Memorabilia • Guns • Tools
URL:https://www.rareauctions.com/auctions/detail/bw141591
SEQUENCE:1
END:VEVENT
END:VCALENDAR