BEGIN:VCALENDAR
VERSION:2.0
PRODID:-//ExpressionEngine Easy iCalendar plugin//NONSGML v2.0.1//EN
X-WR-TIMEZONE:America/Chicago
X-WR-CALNAME:Upcoming Auctions
BEGIN:VEVENT
UID:141602
DTSTAMP:20250626T100700
DTSTART:20250626T100700
DTEND:20250626T110700
SUMMARY:Absolute Auction • 510 Greenhill Drive • Benton\, KY
LOCATION:510 Greenhill Drive\, Benton\, KY 42025\, US
DESCRIPTION:3 to 5 Bedrooms • 2 Baths w/±24x24 ft. Garage • ±211
 6 Sq. Ft • ± 3000 Sq. Ft. U/Roof
URL:https://www.rareauctions.com/auctions/detail/bw141602
SEQUENCE:1
END:VEVENT
END:VCALENDAR