BEGIN:VCALENDAR
VERSION:2.0
PRODID:-//ExpressionEngine Easy iCalendar plugin//NONSGML v2.0.1//EN
X-WR-TIMEZONE:America/Chicago
X-WR-CALNAME:Upcoming Auctions
BEGIN:VEVENT
UID:142567
DTSTAMP:20250717T100700
DTSTART:20250717T100700
DTEND:20250717T110700
SUMMARY:Absolute Estate Auction • July 17th\, 2025
LOCATION:6305 Old Mayfield Road\, Paducah\, KY 42003\, US
DESCRIPTION:±1450 Sq. Ft. • 3 Bedrooms\, 2 Baths • 2 Garages • ±1
 .5 Acres
URL:https://www.rareauctions.com/auctions/detail/bw142567
SEQUENCE:1
END:VEVENT
END:VCALENDAR