BEGIN:VCALENDAR
VERSION:2.0
PRODID:-//ExpressionEngine Easy iCalendar plugin//NONSGML v2.0.1//EN
X-WR-TIMEZONE:America/Chicago
X-WR-CALNAME:Upcoming Auctions
BEGIN:VEVENT
UID:143653
DTSTAMP:20250717T100700
DTSTART:20250717T100700
DTEND:20250721T100700
SUMMARY:Online Only Auction • 7/17-7/21/25
LOCATION:6305 Old Mayfield Road\, Paducah\, KY 42003\, US
DESCRIPTION:Online Only Auction held at 6305 Old Mayfield Road • Paduc
 ah\, KY
URL:https://www.rareauctions.com/auctions/detail/bw143653
SEQUENCE:1
END:VEVENT
END:VCALENDAR