BEGIN:VCALENDAR
VERSION:2.0
PRODID:-//ExpressionEngine Easy iCalendar plugin//NONSGML v2.0.1//EN
X-WR-TIMEZONE:America/Chicago
X-WR-CALNAME:Upcoming Auctions
BEGIN:VEVENT
UID:144656
DTSTAMP:20250807T100700
DTSTART:20250807T100700
DTEND:20250811T100700
SUMMARY:Online Only Estate Auction
LOCATION:1515 Blow Avenue\, Paducah\, KY 42003\, US
DESCRIPTION:2 Tracts • 2 Properties • Plus Vehicles\, Trailers\, & Mor
 e!
URL:https://www.rareauctions.com/auctions/detail/bw144656
SEQUENCE:1
END:VEVENT
END:VCALENDAR