BEGIN:VCALENDAR
VERSION:2.0
PRODID:-//ExpressionEngine Easy iCalendar plugin//NONSGML v2.0.1//EN
X-WR-TIMEZONE:America/Chicago
X-WR-CALNAME:Upcoming Auctions
BEGIN:VEVENT
UID:144938
DTSTAMP:20250814T100700
DTSTART:20250814T100700
DTEND:20250814T110700
SUMMARY:Absolute Auction • 6260 Old Highway 60\, Paducah
LOCATION:6260 Old Highway 60\, Paducah\, KY 42001\, US
DESCRIPTION:Fabulous Investment Property!
URL:https://www.rareauctions.com/auctions/detail/bw144938
SEQUENCE:1
END:VEVENT
END:VCALENDAR