BEGIN:VCALENDAR
VERSION:2.0
PRODID:-//ExpressionEngine Easy iCalendar plugin//NONSGML v2.0.1//EN
X-WR-TIMEZONE:America/Chicago
X-WR-CALNAME:Upcoming Auctions
BEGIN:VEVENT
UID:147150
DTSTAMP:20251002T100700
DTSTART:20251002T100700
DTEND:20251002T110700
SUMMARY:Absolute Estate Auction • 10/02/25
LOCATION:3550 Oscar Avenue\, Paducah\, KY 42001\, US
DESCRIPTION:±2928 Sq. Ft. Under Roof • 3 Bedrooms\, 2 Baths • ±26x2
 6 Ft. 2 Car Garage
URL:https://www.rareauctions.com/auctions/detail/bw147150
SEQUENCE:1
END:VEVENT
END:VCALENDAR