BEGIN:VCALENDAR
VERSION:2.0
PRODID:-//ExpressionEngine Easy iCalendar plugin//NONSGML v2.0.1//EN
X-WR-TIMEZONE:America/Chicago
X-WR-CALNAME:Upcoming Auctions
BEGIN:VEVENT
UID:149086
DTSTAMP:20251030T100700
DTSTART:20251030T100700
DTEND:20251030T110700
SUMMARY:Absolute Estate Auction • Dover\, TN
LOCATION:3435 Donelson Parkway\, Dover\, TN 37058\, US
DESCRIPTION:±5 Acres selling in 2 tracts • ±2582 Sq. Ft. UR\, 3 to 5 
 bedroom\, 2 Full & 2 Half Bath Home with Full Basement
URL:https://www.rareauctions.com/auctions/detail/bw149086
SEQUENCE:1
END:VEVENT
END:VCALENDAR