BEGIN:VCALENDAR
VERSION:2.0
PRODID:-//ExpressionEngine Easy iCalendar plugin//NONSGML v2.0.1//EN
X-WR-TIMEZONE:America/Chicago
X-WR-CALNAME:Upcoming Auctions
BEGIN:VEVENT
UID:149137
DTSTAMP:20251106T100700
DTSTART:20251106T100700
DTEND:20251106T110700
SUMMARY:Absolute Estate Auction • 162 Phillip Drive\, Wickliffe
LOCATION:162 Phillip Drive\, Wickliffe\, KY 42087\, US
DESCRIPTION:At the home of the late Dr. Jesse "JM" Hunt\, Jr. & Mary Fran
 ces Hunt
URL:https://www.rareauctions.com/auctions/detail/bw149137
SEQUENCE:1
END:VEVENT
END:VCALENDAR