BEGIN:VCALENDAR
VERSION:2.0
PRODID:-//ExpressionEngine Easy iCalendar plugin//NONSGML v2.0.1//EN
X-WR-TIMEZONE:America/Chicago
X-WR-CALNAME:Upcoming Auctions
BEGIN:VEVENT
UID:151265
DTSTAMP:20251120T130700
DTSTART:20251120T130700
DTEND:20251120T140700
SUMMARY:Absolute Estate Auction • Millington\, TN
LOCATION:9125 Deadfall Road\, Millington\, TN 38053\, US
DESCRIPTION:±5 Acres • 2 Tracts • 4 Bedrooms\, 2 Bath Home & Buildin
 gs in Millington\, TN
URL:https://www.rareauctions.com/auctions/detail/bw151265
SEQUENCE:1
END:VEVENT
END:VCALENDAR