BEGIN:VCALENDAR
VERSION:2.0
PRODID:-//ExpressionEngine Easy iCalendar plugin//NONSGML v2.0.1//EN
X-WR-TIMEZONE:America/Chicago
X-WR-CALNAME:Upcoming Auctions
BEGIN:VEVENT
UID:151275
DTSTAMP:20251112T130700
DTSTART:20251112T130700
DTEND:20251118T100700
SUMMARY:Online Only Auction • Millington\, TN
LOCATION:9125 Deadfall Road\, Millington\, TN 38053\, US
DESCRIPTION:Online Only Estate Auction in Millington\, TN
URL:https://www.rareauctions.com/auctions/detail/bw151275
SEQUENCE:1
END:VEVENT
END:VCALENDAR