BEGIN:VCALENDAR
VERSION:2.0
PRODID:-//ExpressionEngine Easy iCalendar plugin//NONSGML v2.0.1//EN
X-WR-TIMEZONE:America/Chicago
X-WR-CALNAME:Upcoming Auctions
BEGIN:VEVENT
UID:151693
DTSTAMP:20251113T100700
DTSTART:20251113T100700
DTEND:20251117T100700
SUMMARY:Online Only Auction • RARE Auction Center
LOCATION:4000 Olivet Church Road\, Paducah\, KY 42001\, US
DESCRIPTION:Online Only Auction Held at RARE Auction Center in Paducah\, 
 KY
URL:https://www.rareauctions.com/auctions/detail/bw151693
SEQUENCE:1
END:VEVENT
END:VCALENDAR