BEGIN:VCALENDAR
VERSION:2.0
PRODID:-//ExpressionEngine Easy iCalendar plugin//NONSGML v2.0.1//EN
X-WR-TIMEZONE:America/Chicago
X-WR-CALNAME:Upcoming Auctions
BEGIN:VEVENT
UID:152535
DTSTAMP:20251211T100700
DTSTART:20251211T100700
DTEND:20251211T110700
SUMMARY:Absolute Estate Auction • 127 Edwards Dr.\, Paducah
LOCATION:127 Edwards Drive\, Paducah\, KY 42003\, US
DESCRIPTION:3 Bedroom\, 2 Bath Brick Ranch-Style Home
URL:https://www.rareauctions.com/auctions/detail/bw152535
SEQUENCE:1
END:VEVENT
END:VCALENDAR