BEGIN:VCALENDAR
VERSION:2.0
PRODID:-//ExpressionEngine Easy iCalendar plugin//NONSGML v2.0.1//EN
X-WR-TIMEZONE:America/Chicago
X-WR-CALNAME:Upcoming Auctions
BEGIN:VEVENT
UID:152817
DTSTAMP:20251218T100700
DTSTART:20251218T100700
DTEND:20251218T110700
SUMMARY:Estate Auction • 12775 Metcalf Road\, Kevil\, KY
LOCATION:12775 Metcalf Road\, Kevil\, KY 42053\, US
DESCRIPTION:ESTATE AUCTION Thursday\, December 18th • 10:07 AM 12775 Me
 tcalf Road Kevil (McCracken Co.)\, KY ±35 Acres • 2 Tracts
  • ±800 Ft. Road Frontage 4 Bedrooms • 2 Kitchens • G
 arages Barns • Buildings Tractors • ZTR • Side x Side 
 • Tools Furnishings At the Home of the Late Eugene & Helen
  Henley
URL:https://www.rareauctions.com/auctions/detail/bw152817
SEQUENCE:1
END:VEVENT
END:VCALENDAR