BEGIN:VCALENDAR
VERSION:2.0
PRODID:-//ExpressionEngine Easy iCalendar plugin//NONSGML v2.0.1//EN
X-WR-TIMEZONE:America/Chicago
X-WR-CALNAME:Upcoming Auctions
BEGIN:VEVENT
UID:154433
DTSTAMP:20260115T100700
DTSTART:20260115T100700
DTEND:20260115T110700
SUMMARY:Absolute Estate Auction • 3033 Harrison St.\, Paducah\, KY
LOCATION:3033 Harrison St.\, Paducah\, KY 42001\, US
DESCRIPTION:3 Bedroom\, Detached Garage\, Corner Lot
URL:https://www.rareauctions.com/auctions/detail/bw154433
SEQUENCE:1
END:VEVENT
END:VCALENDAR