BEGIN:VCALENDAR
VERSION:2.0
PRODID:-//ExpressionEngine Easy iCalendar plugin//NONSGML v2.0.1//EN
X-WR-TIMEZONE:America/Chicago
X-WR-CALNAME:Upcoming Auctions
BEGIN:VEVENT
UID:158006
DTSTAMP:20260312T100700
DTSTART:20260312T100700
DTEND:20260317T100700
SUMMARY:Online Only Auction • 3/12-3/17/26
LOCATION:4000 Olivet Church Road\, Paducah\, KY 42001\, US
DESCRIPTION:Online Only Auction at RARE Auction Center
URL:https://www.rareauctions.com/auctions/detail/bw158006
SEQUENCE:1
END:VEVENT
END:VCALENDAR