BEGIN:VCALENDAR
VERSION:2.0
PRODID:-//ExpressionEngine Easy iCalendar plugin//NONSGML v2.0.1//EN
X-WR-TIMEZONE:America/Chicago
X-WR-CALNAME:Upcoming Auctions
BEGIN:VEVENT
UID:158144
DTSTAMP:20260402T100700
DTSTART:20260402T100700
DTEND:20260402T110700
SUMMARY:Absolute Estate Auction • April 2nd\, 2026
LOCATION:1652 US Highway 60 East\, Burna\, KY 42028\, US
DESCRIPTION:Home • Tractors • Vehicles • Tiny Home • Barn • Sh
 ed • Furniture & More!
URL:https://www.rareauctions.com/auctions/detail/bw158144
SEQUENCE:1
END:VEVENT
END:VCALENDAR