BEGIN:VCALENDAR
VERSION:2.0
PRODID:-//ExpressionEngine Easy iCalendar plugin//NONSGML v2.0.0//EN
X-WR-TIMEZONE:America/Chicago
X-WR-CALNAME:Upcoming Auctions
BEGIN:VEVENT
UID:160853
DTSTAMP:20260430T100700
DTSTART:20260430T100700
DTEND:20260504T100700
SUMMARY:Online Only Estate Auction 4/30-5/4/26
LOCATION:204 Herman Avenue\, Paducah\, KY 42003\, US
DESCRIPTION:Online Only Auction
URL:https://www.rareauctions.com/auctions/detail/bw160853
SEQUENCE:1
END:VEVENT
END:VCALENDAR