BEGIN:VCALENDAR
VERSION:2.0
PRODID:-//ExpressionEngine Easy iCalendar plugin//NONSGML v2.0.1//EN
X-WR-TIMEZONE:America/Chicago
X-WR-CALNAME:Upcoming Auctions
BEGIN:VEVENT
UID:68191
DTSTAMP:20210826T100700
DTSTART:20210826T100700
DTEND:20210826T110700
SUMMARY:1003 Poplar St. Benton\, KY
LOCATION:1003 Poplar St\, Benton\, KY 42025\, US
DESCRIPTION:+15\,632 Sq. Ft. UR • Large Event Size Rooms • Lift •
  +1.19 Ac. • Zoned C-1  LIVE ON-SITE AUCTION Begins: 
 08/26/21 at 10:07 AM CDT Location:  1003 Poplar St.\, Bento
 n\, KY 42025
URL:https://www.rareauctions.com/auctions/detail/bw68191
SEQUENCE:1
END:VEVENT
END:VCALENDAR