BEGIN:VCALENDAR
VERSION:2.0
PRODID:-//ExpressionEngine Easy iCalendar plugin//NONSGML v2.0.0//EN
X-WR-TIMEZONE:America/Chicago
X-WR-CALNAME:Upcoming Auctions
BEGIN:VEVENT
UID:68193
DTSTAMP:20210826T100700
DTSTART:20210826T100700
DTEND:20210826T110700
SUMMARY:1017 Birch St. Benton\, KY
LOCATION:1003 Poplar St\, Benton\, KY 42025\, US
DESCRIPTION:+50x200 Ft. Lot • All Utilities Available • Zoned Resi
 dential  LIVE OFF-SITE AUCTION Begins: 08/26/21 at 10:07 A
 M CDT Auction Location:  1003 Poplar St.\, Benton\, KY 42025
  Property Location:  1017 Birch St.\, Benton\, KY 42025
URL:https://www.rareauctions.com/auctions/detail/bw68193
SEQUENCE:1
END:VEVENT
END:VCALENDAR