BEGIN:VCALENDAR
VERSION:2.0
PRODID:-//ExpressionEngine Easy iCalendar plugin//NONSGML v2.0.1//EN
X-WR-TIMEZONE:America/Chicago
X-WR-CALNAME:Upcoming Auctions
BEGIN:VEVENT
UID:68194
DTSTAMP:20210826T110700
DTSTART:20210826T110700
DTEND:20210826T120700
SUMMARY:903 Poplar St. Benton\, KY
LOCATION:903 Poplar St\, Benton\, KY 42025\, US
DESCRIPTION:+1\,124 Sq. Ft. • 2 Bedroom • 1 Bath • Zoned C-2 Commer
 cial LIVE ON-SITE AUCTION Begins: 08/26/21 at 11:07 AM CDT 
 Location:  903 Poplar St.\, Benton\, KY 42025
URL:https://www.rareauctions.com/auctions/detail/bw68194
SEQUENCE:1
END:VEVENT
END:VCALENDAR