BEGIN:VCALENDAR
VERSION:2.0
PRODID:-//ExpressionEngine Easy iCalendar plugin//NONSGML v2.0.1//EN
X-WR-TIMEZONE:America/Chicago
X-WR-CALNAME:Upcoming Auctions
BEGIN:VEVENT
UID:68197
DTSTAMP:20210902T100700
DTSTART:20210902T100700
DTEND:20210902T111200
SUMMARY:ABSOLUTE LIVING ESTATE AUCTION
LOCATION:103 Court Dr.\, Benton\, KY 42025\, US
DESCRIPTION:+1\,665 Sq. Ft. • 3 Bedroom • 2 Bath • 2 Garages  
URL:https://www.rareauctions.com/auctions/detail/bw68197
SEQUENCE:1
END:VEVENT
END:VCALENDAR