BEGIN:VCALENDAR
VERSION:2.0
PRODID:-//ExpressionEngine Easy iCalendar plugin//NONSGML v2.0.1//EN
X-WR-TIMEZONE:America/Chicago
X-WR-CALNAME:Upcoming Auctions
BEGIN:VEVENT
UID:68200
DTSTAMP:20210902T111700
DTSTART:20210902T111700
DTEND:20210909T161900
SUMMARY:ABSOLUTE LIVING ESTATE AUCTION
LOCATION:2930 McNeil Rd\, Boaz\, KY 42027\, US
DESCRIPTION:+/-1\,600 Sq. Ft. UR • 2 or 3 Bedroom • 2 Bath • Garage
  • +/-1.52 Acres
URL:https://www.rareauctions.com/auctions/detail/bw68200
SEQUENCE:1
END:VEVENT
END:VCALENDAR