BEGIN:VCALENDAR
VERSION:2.0
PRODID:-//ExpressionEngine Easy iCalendar plugin//NONSGML v2.0.0//EN
X-WR-TIMEZONE:America/Chicago
X-WR-CALNAME:Upcoming Auctions
BEGIN:VEVENT
UID:68751
DTSTAMP:20210909T100700
DTSTART:20210909T100700
DTEND:20210913T100700
SUMMARY:ONLINE ESTATE AUCTION
LOCATION:2930 McNeil Rd\, Boaz\, KY 42027\, US
DESCRIPTION:      
URL:https://www.rareauctions.com/auctions/detail/bw68751
SEQUENCE:1
END:VEVENT
END:VCALENDAR