BEGIN:VCALENDAR
VERSION:2.0
PRODID:-//ExpressionEngine Easy iCalendar plugin//NONSGML v2.0.1//EN
X-WR-TIMEZONE:America/Chicago
X-WR-CALNAME:Upcoming Auctions
BEGIN:VEVENT
UID:68779
DTSTAMP:20211015T100700
DTSTART:20211015T100700
DTEND:20211015T110700
SUMMARY:LIVE & ONLINE AUCTION
LOCATION:4000 Olivet Church Rd\, Paducah\, KY 42001\, US
DESCRIPTION:Cars â€¢ Trucks â€¢ Tractors â€¢ Motorcycles â€¢ FirearmsÂ â
 €¢ Equipment â€¢ Snap-On Toolboxes
URL:https://www.rareauctions.com/auctions/detail/bw68779
SEQUENCE:1
END:VEVENT
END:VCALENDAR