BEGIN:VCALENDAR
VERSION:2.0
PRODID:-//ExpressionEngine Easy iCalendar plugin//NONSGML v2.0.1//EN
X-WR-TIMEZONE:America/Chicago
X-WR-CALNAME:Upcoming Auctions
BEGIN:VEVENT
UID:68785
DTSTAMP:20211028T100700
DTSTART:20211028T100700
DTEND:20211028T110700
SUMMARY:ABSOLUTE LIVING ESTATE AUCTION
LOCATION:Wallace Rd\, Gage\, KY 42056\, US
DESCRIPTION:+/-95 Acres • +/-60 Acres Tillable Base • Home Sites •
  Bottom Ground Woods • Game • Timber • Pecan Grove
URL:https://www.rareauctions.com/auctions/detail/bw68785
SEQUENCE:1
END:VEVENT
END:VCALENDAR