BEGIN:VCALENDAR
VERSION:2.0
PRODID:-//ExpressionEngine Easy iCalendar plugin//NONSGML v2.0.1//EN
X-WR-TIMEZONE:America/Chicago
X-WR-CALNAME:Upcoming Auctions
BEGIN:VEVENT
UID:68906
DTSTAMP:20210930T100700
DTSTART:20210930T100700
DTEND:20210930T110700
SUMMARY:ABSOLUTE ESTATE AUCTION
LOCATION:3116 Kentucky Ave \, Paducah\, KY 42001\, US
DESCRIPTION:+/-1\,532 Sq. Ft. · 3 Bedroom · 1 Bath · Vintage 1912 Home
  · Zoned B1 · +/-369 Ft. Corner Frontage on 2 Roads
URL:https://www.rareauctions.com/auctions/detail/bw68906
SEQUENCE:1
END:VEVENT
END:VCALENDAR