BEGIN:VCALENDAR
VERSION:2.0
PRODID:-//ExpressionEngine Easy iCalendar plugin//NONSGML v2.0.1//EN
X-WR-TIMEZONE:America/Chicago
X-WR-CALNAME:Upcoming Auctions
BEGIN:VEVENT
UID:68912
DTSTAMP:20211021T103700
DTSTART:20211021T103700
DTEND:20211021T113700
SUMMARY:ABSOLUTE AUCTION
LOCATION:201 Salyer Creek Rd. \, Calvert City\, KY 42029\, US
DESCRIPTION:+/- 40 Acres · +/-650 Ft. Frontage · 4 Tracts · Tillab
 le · Timber · Beautiful Home Sites
URL:https://www.rareauctions.com/auctions/detail/bw68912
SEQUENCE:1
END:VEVENT
END:VCALENDAR