BEGIN:VCALENDAR
VERSION:2.0
PRODID:-//ExpressionEngine Easy iCalendar plugin//NONSGML v2.0.1//EN
X-WR-TIMEZONE:America/Chicago
X-WR-CALNAME:Upcoming Auctions
BEGIN:VEVENT
UID:68941
DTSTAMP:20211021T100700
DTSTART:20211021T100700
DTEND:20211021T110700
SUMMARY:ABSOLUTE ESTATE AUCTION-PREVIEW 10/19/21 4:07-6:07 PM
LOCATION:3459 Griggstown Rd. \, Calvert City\, KY 42029\, US
DESCRIPTION:+/-9 Acres Â· +/-1\,500 Sq. Ft. Â· 3 Bedrooms Â· 1 Bath Count
 ry Home Â· Barns Â· Shops Â· Grain Bin Â· Beautiful GroundsÂ
  Â·Â +/-1\,500 Ft. Shop with Apartment PREVIEW: TUESDAY\, OCTO
 BER 19\, 2021 FROM 4:07-6:07 PM
URL:https://www.rareauctions.com/auctions/detail/bw68941
SEQUENCE:1
END:VEVENT
END:VCALENDAR