BEGIN:VCALENDAR
VERSION:2.0
PRODID:-//ExpressionEngine Easy iCalendar plugin//NONSGML v2.0.1//EN
X-WR-TIMEZONE:America/Chicago
X-WR-CALNAME:Upcoming Auctions
BEGIN:VEVENT
UID:69168
DTSTAMP:20211007T100700
DTSTART:20211007T100700
DTEND:20211007T110700
SUMMARY:ABSOLUTE ESTATE AUCTION
LOCATION:3040 Mayfield HWY\, Benton\, KY 42025\, US
DESCRIPTION:+/-9 Acres · 4 Tracts · Frontage · +/-1\,500 Sq. Ft. 
 · 3 Bedroom · 2 Bath · +/-30x24 Ft. Garage w/ Open Shed 
URL:https://www.rareauctions.com/auctions/detail/bw69168
SEQUENCE:1
END:VEVENT
END:VCALENDAR