BEGIN:VCALENDAR
VERSION:2.0
PRODID:-//ExpressionEngine Easy iCalendar plugin//NONSGML v2.0.1//EN
X-WR-TIMEZONE:America/Chicago
X-WR-CALNAME:Upcoming Auctions
BEGIN:VEVENT
UID:69417
DTSTAMP:20211012T100700
DTSTART:20211012T100700
DTEND:20211012T110700
SUMMARY:ABSOLUTE ESTATE AUCTION
LOCATION:4770 Contest Rd. \, Paducah\, KY 42001\, US
DESCRIPTION: 3 – 5 Bedrooms • 3 Baths • 2 Kitchens • 2 Garages 
 • +/-5 Acres · 2 Beautiful Lillian Russell Bedroom Suite
 s · Antiques · Collectibles · Tools · Equipment
URL:https://www.rareauctions.com/auctions/detail/bw69417
SEQUENCE:1
END:VEVENT
END:VCALENDAR