BEGIN:VCALENDAR
VERSION:2.0
PRODID:-//ExpressionEngine Easy iCalendar plugin//NONSGML v2.0.1//EN
X-WR-TIMEZONE:America/Chicago
X-WR-CALNAME:Upcoming Auctions
BEGIN:VEVENT
UID:71659
DTSTAMP:20211126T100700
DTSTART:20211126T100700
DTEND:20211130T080700
SUMMARY:2021.11.30 ONLINE ONLY ESTATE AUCTION
LOCATION:4000 Olivet Church Rd.\, Paducah\, KY 42001\, US
DESCRIPTION:Preview: Monday\, November 29th from 3:07 – 5:07 PM Pick-Up
 : Thursday\, December 2nd from 2:07 – 5:07 PM
URL:https://www.rareauctions.com/auctions/detail/bw71659
SEQUENCE:1
END:VEVENT
END:VCALENDAR