BEGIN:VCALENDAR
VERSION:2.0
PRODID:-//ExpressionEngine Easy iCalendar plugin//NONSGML v2.0.1//EN
X-WR-TIMEZONE:America/Chicago
X-WR-CALNAME:Upcoming Auctions
BEGIN:VEVENT
UID:71902
DTSTAMP:20211202T100700
DTSTART:20211202T100700
DTEND:20211202T110700
SUMMARY:ABSOLUTE AUCTION
LOCATION:1214 Mayfield Hwy.\, Benton\, KY 42025\, US
DESCRIPTION:St. Mark’s Anglican Church Church • Home • +/-2\,000 Sq
 . Ft. Brick Building +/-3 Ac. • Natural Gas 
URL:https://www.rareauctions.com/auctions/detail/bw71902
SEQUENCE:1
END:VEVENT
END:VCALENDAR