BEGIN:VCALENDAR
VERSION:2.0
PRODID:-//ExpressionEngine Easy iCalendar plugin//NONSGML v2.0.1//EN
X-WR-TIMEZONE:America/Chicago
X-WR-CALNAME:Upcoming Auctions
BEGIN:VEVENT
UID:73314
DTSTAMP:20211206T100700
DTSTART:20211206T100700
DTEND:20211216T100700
SUMMARY:ABSOLUTE ONLINE AUCTION
LOCATION:163 Farmington St.\, Farmington\, KY 42040\, US
DESCRIPTION:Ideal for Airbnb or Bed & Breakfast +/-3\,124 Sq. Ft. • 3 t
 o 5 Bedrooms • 2 Baths • 3 Garages • +/-1.45 Acres
URL:https://www.rareauctions.com/auctions/detail/bw73314
SEQUENCE:1
END:VEVENT
END:VCALENDAR