BEGIN:VCALENDAR
VERSION:2.0
PRODID:-//ExpressionEngine Easy iCalendar plugin//NONSGML v2.0.1//EN
X-WR-TIMEZONE:America/Chicago
X-WR-CALNAME:Upcoming Auctions
BEGIN:VEVENT
UID:75492
DTSTAMP:20220224T100700
DTSTART:20220224T100700
DTEND:20220228T100700
SUMMARY:ONLINE MULTIPLE ESTATE AUCTION
LOCATION:4000 Olivet Church Road\, Paducah\, KY 42001\, US
DESCRIPTION:Multiple Estates
URL:https://www.rareauctions.com/auctions/detail/bw75492
SEQUENCE:1
END:VEVENT
END:VCALENDAR